BEGIN:VCALENDAR
VERSION:2.0
PRODID:-//Tango research institute - ECPv6.15.11//NONSGML v1.0//EN
CALSCALE:GREGORIAN
METHOD:PUBLISH
X-ORIGINAL-URL:https://trieflm.com
X-WR-CALDESC:Events for Tango research institute
REFRESH-INTERVAL;VALUE=DURATION:PT1H
X-Robots-Tag:noindex
X-PUBLISHED-TTL:PT1H
BEGIN:VTIMEZONE
TZID:UTC
BEGIN:STANDARD
TZOFFSETFROM:+0000
TZOFFSETTO:+0000
TZNAME:UTC
DTSTART:20250101T000000
END:STANDARD
END:VTIMEZONE
BEGIN:VEVENT
DTSTART;TZID=UTC:20260220T080000
DTEND;TZID=UTC:20260223T170000
DTSTAMP:20260420T101952
CREATED:20210915T072505Z
LAST-MODIFIED:20251111T132020Z
UID:2269-1771574400-1771866000@trieflm.com
SUMMARY:Agricultural Policy Masterclass: From Design to Implementation
DESCRIPTION:This intensive masterclass provides government officials with practical tools and frameworks for designing and implementing agricultural policies that deliver results. \nWhat You’ll Learn: \nDay 1: Agricultural Policy Design \n\nDiagnosing constraints to agricultural productivity\nDesigning evidence-based agricultural strategies\nInput market development policies\nLand tenure reform frameworks\nAgricultural finance systems\nIrrigation and water management policies\n\nDay 2: Implementation and Political Economy \n\nSequencing and prioritization\nNavigating political economy challenges\nBuilding reform coalitions\nInstitutional design and capacity building\nMonitoring and evaluation frameworks\nAdaptive management\n\nDay 3: Case Studies and Practical Application \n\nRwanda’s agricultural transformation\nEthiopia’s agricultural commercialization\nKenya’s input subsidy reform\nGhana’s fertilizer market development\nParticipants develop action plans for their countries\n\n\nTeaching Methods: \n\nInteractive lectures\nCase study analysis\nGroup exercises\nCountry action planning\nPeer learning and exchange\n\nWho Should Attend: \n\nMinistry of Agriculture officials\nAgricultural policy advisors\nDevelopment partners working on agriculture\nAgricultural economists and researchers\n\nCourse Leaders: \n\nDr. Maria Santos – Director\, Agricultural & Rural Development Policy\, TANGO\nDr. James Mwangi – Senior Agricultural Economist\, TANGO\nGuest speakers from successful reform countries\n\nCertificate: Participants receive TANGO Certificate in Agricultural Policy Design and Implementation \n[/fusion_text]It’s as ancient as we areLimited Enrollment: Maximum 30 participants to ensure interactive learning \n\nCourse Leaders \n\nImplementation and Political Economy. \n\nAgricultural Policy Design \nThis intensive masterclass provides government officials with practical tools and frameworks for designing and implementing agricultural policies that deliver results.
URL:https://trieflm.com/event/agricultural-policy/
LOCATION:Nairobi\, Nairobi 523\, Nairobi\, 050\, Kenya
CATEGORIES:Event
ATTACH;FMTTYPE=image/jpeg:https://trieflm.com/wp-content/uploads/2021/09/download-10-e1762866455734.jpeg
ORGANIZER;CN="Avada Theme Fusion":MAILTO:info@your-domain.com
END:VEVENT
END:VCALENDAR