BEGIN:VCALENDAR
VERSION:2.0
PRODID:-//Tango research institute - ECPv6.15.11//NONSGML v1.0//EN
CALSCALE:GREGORIAN
METHOD:PUBLISH
X-WR-CALNAME:Tango research institute
X-ORIGINAL-URL:https://trieflm.com
X-WR-CALDESC:Events for Tango research institute
REFRESH-INTERVAL;VALUE=DURATION:PT1H
X-Robots-Tag:noindex
X-PUBLISHED-TTL:PT1H
BEGIN:VTIMEZONE
TZID:UTC
BEGIN:STANDARD
TZOFFSETFROM:+0000
TZOFFSETTO:+0000
TZNAME:UTC
DTSTART:20250101T000000
END:STANDARD
END:VTIMEZONE
BEGIN:VEVENT
DTSTART;TZID=UTC:20260123T080000
DTEND;TZID=UTC:20260125T170000
DTSTAMP:20260420T114600
CREATED:20160316T124710Z
LAST-MODIFIED:20251111T130119Z
UID:610-1769155200-1769360400@trieflm.com
SUMMARY:Global Economic Policy Forum 2026
DESCRIPTION:Stories are powerful marketing toolsFull Description: \nThe Global Economic Policy Forum brings together the world’s leading economic policymakers\, researchers\, and practitioners to address the critical challenges facing developing economies in 2026. \nKey Themes: \n\nNavigating global economic uncertainty and geopolitical tensions\nManaging inflation while supporting growth\nDigital currencies and the future of monetary policy\nClimate finance and green transitions\nDebt sustainability in developing countries\nTrade policy in an era of fragmentation\n\nFeatured Speakers: \n\nDr. Ngozi Okonjo-Iweala – Director-General\, World Trade Organization\nDr. Abebe Aemro Selassie – Director\, African Department\, IMF\nProf. Joseph Stiglitz – Nobel Laureate in Economics\, Columbia University\nDr. Vera Songwe – Former Executive Secretary\, UN Economic Commission for Africa\n15+ Finance Ministers and Central Bank Governors from Africa\, Asia\, and Latin America\n\n. \nProgram Highlights\nDay 1: Macroeconomic Policy in Turbulent Times\nDay 2: Structural Transformation and Inclusive Growth\nDay 3: Climate\, Technology\, and the Future of Development\n\nWho Should Attend: \n\nGovernment officials (finance\, planning\, central banks)\nDevelopment partners and multilateral institutions\nPrivate sector leaders and investors\nResearchers and academics\nCivil society organizations\n\nRegistration Includes: \n\nAccess to all sessions and workshops\nConference materials and research papers\nNetworking receptions and lunches\nCertificate of participation\n\n\nExpert Speakers \n\nYou should attend surely. \n\nNetworking receptions and lunches \nEarly Bird Discount: Register by December 15\, 2025
URL:https://trieflm.com/event/global-economic/
LOCATION:Moucou\, Moscou\, Russian Federation
CATEGORIES:Event
ATTACH;FMTTYPE=image/jpeg:https://trieflm.com/wp-content/uploads/2025/11/download-7-e1762865659495.jpeg
ORGANIZER;CN="Trielm":MAILTO:trieflm@trieflm.com
END:VEVENT
END:VCALENDAR